
BEGIN:VCALENDAR
VERSION:2.0
PRODID:-//Guia Fornecedores - ECPv6.15.20//NONSGML v1.0//EN
CALSCALE:GREGORIAN
METHOD:PUBLISH
X-WR-CALNAME:Guia Fornecedores
X-ORIGINAL-URL:https://guiafornecedoresic.com.br
X-WR-CALDESC:Eventos para Guia Fornecedores
REFRESH-INTERVAL;VALUE=DURATION:PT1H
X-Robots-Tag:noindex
X-PUBLISHED-TTL:PT1H
BEGIN:VTIMEZONE
TZID:America/Sao_Paulo
BEGIN:STANDARD
TZOFFSETFROM:-0300
TZOFFSETTO:-0300
TZNAME:-03
DTSTART:20250101T000000
END:STANDARD
END:VTIMEZONE
BEGIN:VEVENT
DTSTART;TZID=America/Sao_Paulo:20260723T140000
DTEND;TZID=America/Sao_Paulo:20260725T220000
DTSTAMP:20260420T054758
CREATED:20241028T184530Z
LAST-MODIFIED:20260331T215842Z
UID:9417-1784815200-1785016800@guiafornecedoresic.com.br
SUMMARY:Construcon – 23 a 25 de julho de 2026 – Centro de Convenções – Campina Grande (PB)
DESCRIPTION:Construcon 2026 impulsiona a construção no Nordeste\nA feira construção Nordeste ganha destaque com a Construcon 2026\, que acontece de 23 a 25 de julho\, no Centro de Convenções de Campina Grande (PB). O evento reúne empresas\, profissionais e decisores da construção civil e arquitetura em um ambiente voltado para negócios e inovação. \nAlém disso\, a feira se consolida como um dos principais encontros do setor na região. Dessa forma\, conecta fornecedores\, construtoras e compradores estratégicos de diversos estados do Nordeste. \n\nCampina Grande como polo estratégico da construção\nA escolha de Campina Grande reforça o posicionamento da cidade como polo tecnológico e econômico. O município apresenta crescimento no setor imobiliário e forte presença de instituições de ensino e inovação. \nAlém disso\, sua localização facilita o acesso de profissionais de diferentes estados. Assim\, o evento amplia seu alcance e fortalece a integração regional. \n\nFeira construção Nordeste com foco em negócios\nA feira construção Nordeste se destaca pela geração real de oportunidades comerciais. A expectativa é reunir mais de 25 mil visitantes qualificados\, com alto poder de decisão. \nEntre os números do evento\, destacam-se: \n\nMais de 150 expositores segmentados\n87% do público com poder de decisão\nTrês dias intensos de networking\nParticipação de profissionais de 9 estados\n\nDessa maneira\, o evento se posiciona como uma plataforma estratégica para empresas que desejam expandir sua atuação no Nordeste. \n\nExposição\, conteúdo e inovação no evento\nA Construcon reúne exposições\, palestras\, workshops e experiências voltadas à construção civil e arquitetura. O evento promove a troca de conhecimento e apresenta soluções inovadoras para o mercado. \nAlém disso\, fabricantes e fornecedores utilizam a feira para lançar produtos e fortalecer suas marcas. Consequentemente\, os visitantes têm acesso às principais tendências do setor. \n\nPor que participar da Construcon 2026\nParticipar da Construcon representa uma oportunidade estratégica para empresas que buscam crescimento regional. O evento reduz custos de prospecção e concentra oportunidades em um único ambiente. \nAlém disso\, permite conexões diretas com decisores de compra e potenciais clientes. Assim\, os participantes ampliam sua presença no mercado e aumentam suas chances de fechar negócios. \nPor fim\, a feira construção Nordeste se consolida como um dos principais motores de desenvolvimento da construção civil na região\, impulsionando inovação\, relacionamento e geração de resultados. \n\nSite : https://www.instagram.com/feiraconstrucon/
URL:https://guiafornecedoresic.com.br/event/feira-construcao-nordeste-2026/
ATTACH;FMTTYPE=image/png:https://guiafornecedoresic.com.br/wp-content/uploads/2024/10/500-x-300-email-MKT-69.png
END:VEVENT
END:VCALENDAR